BEGIN:VCALENDAR
VERSION:2.0
PRODID:-//Acton Trails - ECPv5.12.3//NONSGML v1.0//EN
CALSCALE:GREGORIAN
METHOD:PUBLISH
X-WR-CALNAME:Acton Trails
X-ORIGINAL-URL:http://35.170.61.20
X-WR-CALDESC:Events for Acton Trails
BEGIN:VTIMEZONE
TZID:America/New_York
BEGIN:DAYLIGHT
TZOFFSETFROM:-0500
TZOFFSETTO:-0400
TZNAME:EDT
DTSTART:20160313T070000
END:DAYLIGHT
BEGIN:STANDARD
TZOFFSETFROM:-0400
TZOFFSETTO:-0500
TZNAME:EST
DTSTART:20161106T060000
END:STANDARD
END:VTIMEZONE
BEGIN:VEVENT
DTSTART;TZID=America/New_York:20160918T140000
DTEND;TZID=America/New_York:20160918T160000
DTSTAMP:20260423T162650
CREATED:20160902T150117Z
LAST-MODIFIED:20160902T150117Z
UID:862-1474207200-1474214400@35.170.61.20
SUMMARY:Acton Arboretum 30th birthday party!
DESCRIPTION:September 18 from 2-4 PM.\nActon Arboretum 30th birthday party!\nCome to the Acton Arboretum\, 2 Taylor Road.\nAdditional parking behind center fire station or behind town hall and the library.\nEnjoy birthday cake and decorate a giant birthday card.\nBuy fundraiser Raffle tickets to buy a new cedar arbor for the butterfly garden.\nPrizes include a colorful quilt\, a plant\, homemade apple pie\, bottle of wine\, basket of gardening tools. \nEmail NR@ACTON-MA.GOV for more information or call 978-929-6634
URL:http://35.170.61.20/event/acton-arboretum-30th-birthday-party/
LOCATION:Acton Arboretum\, 2 Taylor Road\, Acton\, MA\, 01720\, United States
ORGANIZER;CN="Bettina%20Abe":MAILTO:NR@acton-ma.org
END:VEVENT
END:VCALENDAR